BEGIN:VCALENDAR
VERSION:2.0
PRODID:-//Texas Southeast 6 Region - Destination Imagination - ECPv6.15.18//NONSGML v1.0//EN
CALSCALE:GREGORIAN
METHOD:PUBLISH
X-WR-CALNAME:Texas Southeast 6 Region - Destination Imagination
X-ORIGINAL-URL:https://ditxse6.org
X-WR-CALDESC:Events for Texas Southeast 6 Region - Destination Imagination
REFRESH-INTERVAL;VALUE=DURATION:PT1H
X-Robots-Tag:noindex
X-PUBLISHED-TTL:PT1H
BEGIN:VTIMEZONE
TZID:America/Chicago
BEGIN:DAYLIGHT
TZOFFSETFROM:-0600
TZOFFSETTO:-0500
TZNAME:CDT
DTSTART:20250309T080000
END:DAYLIGHT
BEGIN:STANDARD
TZOFFSETFROM:-0500
TZOFFSETTO:-0600
TZNAME:CST
DTSTART:20251102T070000
END:STANDARD
BEGIN:DAYLIGHT
TZOFFSETFROM:-0600
TZOFFSETTO:-0500
TZNAME:CDT
DTSTART:20260308T080000
END:DAYLIGHT
BEGIN:STANDARD
TZOFFSETFROM:-0500
TZOFFSETTO:-0600
TZNAME:CST
DTSTART:20261101T070000
END:STANDARD
BEGIN:DAYLIGHT
TZOFFSETFROM:-0600
TZOFFSETTO:-0500
TZNAME:CDT
DTSTART:20270314T080000
END:DAYLIGHT
BEGIN:STANDARD
TZOFFSETFROM:-0500
TZOFFSETTO:-0600
TZNAME:CST
DTSTART:20271107T070000
END:STANDARD
END:VTIMEZONE
BEGIN:VEVENT
DTSTART;TZID=America/Chicago:20260426T153000
DTEND;TZID=America/Chicago:20260426T180000
DTSTAMP:20260424T162533
CREATED:20260415T033652Z
LAST-MODIFIED:20260415T033655Z
UID:9887-1777217400-1777226400@ditxse6.org
SUMMARY:Pin Trading in the Park
DESCRIPTION:You are all invited to our SE6 Pin Trading in the Park celebration! \n\n\n\nWe want to celebrate all of you and your accomplishments this DI season. In the past we hosted a celebration for our Lone Star Finals and Global Finals teams\, but this year we want to extend the invitation to all SE6 teams! All team managers\, team members\, and team families are invited. \n\n\n\nWe will have refreshments\, spaces for pin trading\, and will deliver pin orders placed online. Since we cannot collect money directly in the park this year\, those who want to purchase pins or t-shirts must place their order online with a credit card either before or during the event. Bring your pin collections to trade with others from our region\, or just have fun playing and enjoying refreshments in the park. \n\n\n\nManagers note: your teams’ parents have also been sent this evite. If you’re RSVPing for your entire team\, please make sure the parents don’t duplicate the RSVP! \n\n\n\nPlease also note that adult supervision is required – this is not a “drop off” event.
URL:https://ditxse6.org/event/pin-trading-in-the-park-2026/
LOCATION:Northshore Park\, 2505 Lake Woodlands Dr77380\, The Woodlands\, TX\, 77380\, United States
END:VEVENT
BEGIN:VEVENT
DTSTART;TZID=America/Chicago:20260521T000000
DTEND;TZID=America/Chicago:20260524T235959
DTSTAMP:20260424T162533
CREATED:20250818T010308Z
LAST-MODIFIED:20250818T010311Z
UID:6707-1779321600-1779667199@ditxse6.org
SUMMARY:Global Finals
DESCRIPTION:
URL:https://ditxse6.org/event/globalfinals-2026/
LOCATION:Kansas City Convention Center\, 301 W 13th St\, Kansas City\, MO\, 64105\, United States
CATEGORIES:Tournaments
END:VEVENT
END:VCALENDAR